BEGIN:VCALENDAR
VERSION:2.0
PRODID:-//Squarespace Inc/Squarespace 6//v6//EN
BEGIN:VEVENT
UID:5d9c1d40e77d8a0f62529287@squarespace.com
DTSTAMP:20200304T085101Z
DTSTART:20200312T073000Z
DTEND:20200312T093000Z
SUMMARY:KU-RING-GAI COUNCIL CLOTHING SWAP (NSW)
GEO:-33.753614;151.152231
LOCATION:Gordon Library\, 799 Pacific Highway\, Gordon NSW 2072\, Australia
END:VEVENT
END:VCALENDAR
