BEGIN:VCALENDAR
VERSION:2.0
PRODID:-//Squarespace Inc/Squarespace 6//v6//EN
BEGIN:VEVENT
UID:5dc9382d394ef27dc9c186b6@squarespace.com
DTSTAMP:20191129T064211Z
DTSTART:20191201T010000Z
DTEND:20191201T050000Z
SUMMARY:Launceston Free Clothes Swap
GEO:-41.435567;147.136838
LOCATION:Civic Square\, 28 St John Street\, Launceston\, Australia
END:VEVENT
END:VCALENDAR
