BEGIN:VCALENDAR
VERSION:2.0
PRODID:-//Squarespace Inc/Squarespace 6//v6//EN
BEGIN:VEVENT
UID:5e229069c1003e671fc15820@squarespace.com
DTSTAMP:20201011T024255Z
DTSTART:20201017T043000Z
DTEND:20201017T054500Z
SUMMARY:NATIONAL SWAP DAY SYDNEY
GEO:-33.87834;151.216025
LOCATION:ESCAC\, 34 Burton Street\, Darlinghurst\, NSW\, 2010\, Australia
END:VEVENT
END:VCALENDAR
