BEGIN:VCALENDAR
VERSION:2.0
PRODID:-//Squarespace Inc/Squarespace 6//v6//EN
BEGIN:VEVENT
UID:5e225d722e103654eb421afc@squarespace.com
DTSTAMP:20200202T014430Z
DTSTART:20200216T000000Z
DTEND:20200216T030000Z
SUMMARY:Clothes Swap @ Queen Victoria Market
GEO:-37.812646;144.959686
LOCATION:Queen Victoria Market\, C Shed on Peel Street side\, Melbourne\, V
 IC\, 3004\, Australia
END:VEVENT
END:VCALENDAR
